BEGIN:VCALENDAR
VERSION:2.0
PRODID:-//Churches Together in St Albans - ECPv5.9.1//NONSGML v1.0//EN
CALSCALE:GREGORIAN
METHOD:PUBLISH
X-WR-CALNAME:Churches Together in St Albans
X-ORIGINAL-URL:https://ctstalbans.org.uk
X-WR-CALDESC:Events for Churches Together in St Albans
BEGIN:VTIMEZONE
TZID:UTC
BEGIN:STANDARD
TZOFFSETFROM:+0000
TZOFFSETTO:+0000
TZNAME:UTC
DTSTART:20180101T000000
END:STANDARD
END:VTIMEZONE
BEGIN:VEVENT
DTSTART;TZID=UTC:20180210T100000
DTEND;TZID=UTC:20180210T160000
DTSTAMP:20260421T111825
CREATED:20180127T024402Z
LAST-MODIFIED:20180127T030600Z
UID:88-1518256800-1518278400@ctstalbans.org.uk
SUMMARY:Quiet Day - Love and the littleness of God
DESCRIPTION:Love and the littleness of God:\n seeing Jesus through the eyes of John\n – A quiet day\n Led by the Revd. Iain Lane \n\n\n\n\nEveryone welcome  \nCost is £5 which includes drinks\, but please bring a packed lunch. \nSt Stephen’s Church and its grounds are available all day as part of this event \nPlease contact the Circuit Administrator  \n– for more information or to book a place  \nTel 01727 854211 \nChecklist for your day:  \n Bible \n Packed lunch \n £5 \n Wear weather appropriate clothing – you may be walking outside 
URL:https://ctstalbans.org.uk/event/quiet-day
LOCATION:St Stephen’s Church\, Watling Street\, St Albans
ORGANIZER;CN="Circuit%20Administrator":MAILTO:admin@midhertsmethodists.org.uk
END:VEVENT
END:VCALENDAR