BEGIN:VCALENDAR
VERSION:2.0
PRODID:-//Churches Together in St Albans - ECPv5.9.1//NONSGML v1.0//EN
CALSCALE:GREGORIAN
METHOD:PUBLISH
X-WR-CALNAME:Churches Together in St Albans
X-ORIGINAL-URL:https://ctstalbans.org.uk
X-WR-CALDESC:Events for Churches Together in St Albans
BEGIN:VTIMEZONE
TZID:UTC
BEGIN:STANDARD
TZOFFSETFROM:+0000
TZOFFSETTO:+0000
TZNAME:UTC
DTSTART:20180101T000000
END:STANDARD
END:VTIMEZONE
BEGIN:VEVENT
DTSTART;TZID=UTC:20180128T180000
DTEND;TZID=UTC:20180128T193000
DTSTAMP:20260421T130135
CREATED:20180127T030055Z
LAST-MODIFIED:20180127T030055Z
UID:98-1517162400-1517167800@ctstalbans.org.uk
SUMMARY:I\, Joseph
DESCRIPTION:A plainsong narrative of the birth and naming of Christ\, based on the ancient Gospel of St James\, performed in a dramatic liturgical setting\, by a mixed cast of professional and parish singers. A beautiful way to conclude the Christmas season. Free admission; refreshments.
URL:https://ctstalbans.org.uk/event/i-joseph
LOCATION:St Saviour’s\, Sandpit Lane\, St Albans
END:VEVENT
END:VCALENDAR