BEGIN:VCALENDAR
VERSION:2.0
PRODID:-//Churches Together in St Albans - ECPv5.9.1//NONSGML v1.0//EN
CALSCALE:GREGORIAN
METHOD:PUBLISH
X-WR-CALNAME:Churches Together in St Albans
X-ORIGINAL-URL:https://ctstalbans.org.uk
X-WR-CALDESC:Events for Churches Together in St Albans
BEGIN:VTIMEZONE
TZID:UTC
BEGIN:STANDARD
TZOFFSETFROM:+0000
TZOFFSETTO:+0000
TZNAME:UTC
DTSTART:20180101T000000
END:STANDARD
END:VTIMEZONE
BEGIN:VEVENT
DTSTART;TZID=UTC:20180127T104500
DTEND;TZID=UTC:20180127T143000
DTSTAMP:20260421T141821
CREATED:20180127T023323Z
LAST-MODIFIED:20180127T023826Z
UID:86-1517049900-1517063400@ctstalbans.org.uk
SUMMARY:Finding Silence with Bishop John Crawley
DESCRIPTION:Is life too busy?  Let your soul catch up with your lifestyle! \nAnyone and everyone is invited to discover the value of silence\, with guidance and and wisdom from Bishop John Crawley. \nPlease bring a packed lunch.  Tea and coffee  will be available. \nCome to the parish hall upstairs to the left of the church at the back
URL:https://ctstalbans.org.uk/event/finding-silence-with-bishop-john-crawley
LOCATION:Ss Alban & Stephen Church Hall\, Beaconsfield Road\, St Albans\, AL1 3RB
END:VEVENT
END:VCALENDAR